BEGIN:VCALENDAR
VERSION:2.0
PRODID:-//KIDS-4 - ECPv6.15.17//NONSGML v1.0//EN
CALSCALE:GREGORIAN
METHOD:PUBLISH
X-WR-CALNAME:KIDS-4
X-ORIGINAL-URL:https://www.kids4.tv
X-WR-CALDESC:Events for KIDS-4
REFRESH-INTERVAL;VALUE=DURATION:PT1H
X-Robots-Tag:noindex
X-PUBLISHED-TTL:PT1H
BEGIN:VTIMEZONE
TZID:America/Chicago
BEGIN:DAYLIGHT
TZOFFSETFROM:-0600
TZOFFSETTO:-0500
TZNAME:CDT
DTSTART:20190310T080000
END:DAYLIGHT
BEGIN:STANDARD
TZOFFSETFROM:-0500
TZOFFSETTO:-0600
TZNAME:CST
DTSTART:20191103T070000
END:STANDARD
BEGIN:DAYLIGHT
TZOFFSETFROM:-0600
TZOFFSETTO:-0500
TZNAME:CDT
DTSTART:20200308T080000
END:DAYLIGHT
BEGIN:STANDARD
TZOFFSETFROM:-0500
TZOFFSETTO:-0600
TZNAME:CST
DTSTART:20201101T070000
END:STANDARD
BEGIN:DAYLIGHT
TZOFFSETFROM:-0600
TZOFFSETTO:-0500
TZNAME:CDT
DTSTART:20210314T080000
END:DAYLIGHT
BEGIN:STANDARD
TZOFFSETFROM:-0500
TZOFFSETTO:-0600
TZNAME:CST
DTSTART:20211107T070000
END:STANDARD
END:VTIMEZONE
BEGIN:VEVENT
DTSTART;TZID=America/Chicago:20200205T173000
DTEND;TZID=America/Chicago:20200205T183000
DTSTAMP:20260424T054644
CREATED:20191216T195107Z
LAST-MODIFIED:20191216T195107Z
UID:7822-1580923800-1580927400@www.kids4.tv
SUMMARY:KIDS-4 Potluck Dinner
DESCRIPTION:KIDS-4 families are invited to attend this potluck dinner. Staff will give updates on KIDS-4 crews and the Parents of KIDS-4 group. 
URL:https://www.kids4.tv/event/kids-4-potluck-dinner/
LOCATION:Sun Prairie Public Library\, Community Room
END:VEVENT
END:VCALENDAR