BEGIN:VCALENDAR
VERSION:2.0
PRODID:-//KIDS-4 - ECPv6.15.17//NONSGML v1.0//EN
CALSCALE:GREGORIAN
METHOD:PUBLISH
X-WR-CALNAME:KIDS-4
X-ORIGINAL-URL:https://www.kids4.tv
X-WR-CALDESC:Events for KIDS-4
REFRESH-INTERVAL;VALUE=DURATION:PT1H
X-Robots-Tag:noindex
X-PUBLISHED-TTL:PT1H
BEGIN:VTIMEZONE
TZID:America/Chicago
BEGIN:DAYLIGHT
TZOFFSETFROM:-0600
TZOFFSETTO:-0500
TZNAME:CDT
DTSTART:20190310T080000
END:DAYLIGHT
BEGIN:STANDARD
TZOFFSETFROM:-0500
TZOFFSETTO:-0600
TZNAME:CST
DTSTART:20191103T070000
END:STANDARD
BEGIN:DAYLIGHT
TZOFFSETFROM:-0600
TZOFFSETTO:-0500
TZNAME:CDT
DTSTART:20200308T080000
END:DAYLIGHT
BEGIN:STANDARD
TZOFFSETFROM:-0500
TZOFFSETTO:-0600
TZNAME:CST
DTSTART:20201101T070000
END:STANDARD
BEGIN:DAYLIGHT
TZOFFSETFROM:-0600
TZOFFSETTO:-0500
TZNAME:CDT
DTSTART:20210314T080000
END:DAYLIGHT
BEGIN:STANDARD
TZOFFSETFROM:-0500
TZOFFSETTO:-0600
TZNAME:CST
DTSTART:20211107T070000
END:STANDARD
END:VTIMEZONE
BEGIN:VEVENT
DTSTART;TZID=America/Chicago:20200205T173000
DTEND;TZID=America/Chicago:20200205T183000
DTSTAMP:20260424T022855
CREATED:20191216T195107Z
LAST-MODIFIED:20191216T195107Z
UID:7822-1580923800-1580927400@www.kids4.tv
SUMMARY:KIDS-4 Potluck Dinner
DESCRIPTION:KIDS-4 families are invited to attend this potluck dinner. Staff will give updates on KIDS-4 crews and the Parents of KIDS-4 group. 
URL:https://www.kids4.tv/event/kids-4-potluck-dinner/
LOCATION:Sun Prairie Public Library\, Community Room
END:VEVENT
BEGIN:VEVENT
DTSTART;TZID=America/Chicago:20200206T183000
DTEND;TZID=America/Chicago:20200206T190000
DTSTAMP:20260424T022855
CREATED:20200116T193756Z
LAST-MODIFIED:20200116T193756Z
UID:8030-1581013800-1581015600@www.kids4.tv
SUMMARY:Thursday Night Live\, show
DESCRIPTION:Thursday Night Live (TNL) presents a live show on KIDS-4.
URL:https://www.kids4.tv/event/thursday-night-live-show-5/
END:VEVENT
BEGIN:VEVENT
DTSTART;VALUE=DATE:20200210
DTEND;VALUE=DATE:20200214
DTSTAMP:20260424T022855
CREATED:20191216T195335Z
LAST-MODIFIED:20191216T195335Z
UID:7825-1581292800-1581638399@www.kids4.tv
SUMMARY:Parent Week at KIDS-4
DESCRIPTION:Parents are invited to join their kids’ crew this week to see KIDS-4 in action!
URL:https://www.kids4.tv/event/parent-week-at-kids-4/
END:VEVENT
BEGIN:VEVENT
DTSTART;TZID=America/Chicago:20200213T183000
DTEND;TZID=America/Chicago:20200213T190000
DTSTAMP:20260424T022855
CREATED:20200116T193834Z
LAST-MODIFIED:20200116T193834Z
UID:8032-1581618600-1581620400@www.kids4.tv
SUMMARY:Thursday Night Live\, show
DESCRIPTION:Thursday Night Live (TNL) presents a live show on KIDS-4.
URL:https://www.kids4.tv/event/thursday-night-live-show-6/
END:VEVENT
BEGIN:VEVENT
DTSTART;TZID=America/Chicago:20200220T183000
DTEND;TZID=America/Chicago:20200220T190000
DTSTAMP:20260424T022855
CREATED:20200116T193923Z
LAST-MODIFIED:20200116T193923Z
UID:8034-1582223400-1582225200@www.kids4.tv
SUMMARY:Thursday Night Live\, show
DESCRIPTION:Thursday Night Live (TNL) presents a live show on KIDS-4.
URL:https://www.kids4.tv/event/thursday-night-live-show-7/
END:VEVENT
BEGIN:VEVENT
DTSTART;TZID=America/Chicago:20200227T183000
DTEND;TZID=America/Chicago:20200227T190000
DTSTAMP:20260424T022855
CREATED:20200116T194000Z
LAST-MODIFIED:20200116T194000Z
UID:8036-1582828200-1582830000@www.kids4.tv
SUMMARY:Thursday Night Live\, show
DESCRIPTION:Thursday Night Live (TNL) presents a live show on KIDS-4.
URL:https://www.kids4.tv/event/thursday-night-live-show-8/
END:VEVENT
END:VCALENDAR