BEGIN:VCALENDAR
VERSION:2.0
PRODID:-//KIDS-4 - ECPv6.15.17//NONSGML v1.0//EN
CALSCALE:GREGORIAN
METHOD:PUBLISH
X-ORIGINAL-URL:https://www.kids4.tv
X-WR-CALDESC:Events for KIDS-4
REFRESH-INTERVAL;VALUE=DURATION:PT1H
X-Robots-Tag:noindex
X-PUBLISHED-TTL:PT1H
BEGIN:VTIMEZONE
TZID:America/Chicago
BEGIN:DAYLIGHT
TZOFFSETFROM:-0600
TZOFFSETTO:-0500
TZNAME:CDT
DTSTART:20190310T080000
END:DAYLIGHT
BEGIN:STANDARD
TZOFFSETFROM:-0500
TZOFFSETTO:-0600
TZNAME:CST
DTSTART:20191103T070000
END:STANDARD
BEGIN:DAYLIGHT
TZOFFSETFROM:-0600
TZOFFSETTO:-0500
TZNAME:CDT
DTSTART:20200308T080000
END:DAYLIGHT
BEGIN:STANDARD
TZOFFSETFROM:-0500
TZOFFSETTO:-0600
TZNAME:CST
DTSTART:20201101T070000
END:STANDARD
BEGIN:DAYLIGHT
TZOFFSETFROM:-0600
TZOFFSETTO:-0500
TZNAME:CDT
DTSTART:20210314T080000
END:DAYLIGHT
BEGIN:STANDARD
TZOFFSETFROM:-0500
TZOFFSETTO:-0600
TZNAME:CST
DTSTART:20211107T070000
END:STANDARD
END:VTIMEZONE
BEGIN:VEVENT
DTSTART;TZID=America/Chicago:20200305T183000
DTEND;TZID=America/Chicago:20200305T190000
DTSTAMP:20260424T004958
CREATED:20200116T194130Z
LAST-MODIFIED:20200116T194130Z
UID:8038-1583433000-1583434800@www.kids4.tv
SUMMARY:Thursday Night Live\, show
DESCRIPTION:Thursday Night Live (TNL) presents a live show on KIDS-4.
URL:https://www.kids4.tv/event/thursday-night-live-show-9/
END:VEVENT
BEGIN:VEVENT
DTSTART;TZID=America/Chicago:20200312T183000
DTEND;TZID=America/Chicago:20200312T190000
DTSTAMP:20260424T004958
CREATED:20200116T194229Z
LAST-MODIFIED:20200116T194229Z
UID:8040-1584037800-1584039600@www.kids4.tv
SUMMARY:Thursday Night Live\, show
DESCRIPTION:Thursday Night Live (TNL) presents a live show on KIDS-4.
URL:https://www.kids4.tv/event/thursday-night-live-show-10/
END:VEVENT
BEGIN:VEVENT
DTSTART;VALUE=DATE:20200316
DTEND;VALUE=DATE:20200321
DTSTAMP:20260424T004958
CREATED:20200316T161042Z
LAST-MODIFIED:20200316T165814Z
UID:8569-1584316800-1584748799@www.kids4.tv
SUMMARY:NO SCHOOL/NO KIDS-4 CREWS
DESCRIPTION:KIDS-4 crews will not meet during this time.
URL:https://www.kids4.tv/event/no-school-kids-4-crews/
END:VEVENT
BEGIN:VEVENT
DTSTART;VALUE=DATE:20200323
DTEND;VALUE=DATE:20200328
DTSTAMP:20260424T004958
CREATED:20191216T195718Z
LAST-MODIFIED:20200316T170713Z
UID:7827-1584921600-1585353599@www.kids4.tv
SUMMARY:No School/No Crew/Spring Break
DESCRIPTION:KIDS-4 crews will not meet this week.
URL:https://www.kids4.tv/event/no-school-no-crew-spring-break/
END:VEVENT
BEGIN:VEVENT
DTSTART;VALUE=DATE:20200330
DTEND;VALUE=DATE:20200403
DTSTAMP:20260424T004958
CREATED:20200316T162317Z
LAST-MODIFIED:20200403T161438Z
UID:8572-1585526400-1585871999@www.kids4.tv
SUMMARY:NO SCHOOL/NO KIDS-4 CREWS
DESCRIPTION:KIDS-4 crews will not meet during this time.
URL:https://www.kids4.tv/event/no-school-no-kids-4-crews/
END:VEVENT
END:VCALENDAR