BEGIN:VCALENDAR
VERSION:2.0
PRODID:-//KIDS-4 - ECPv6.15.17//NONSGML v1.0//EN
CALSCALE:GREGORIAN
METHOD:PUBLISH
X-ORIGINAL-URL:https://www.kids4.tv
X-WR-CALDESC:Events for KIDS-4
REFRESH-INTERVAL;VALUE=DURATION:PT1H
X-Robots-Tag:noindex
X-PUBLISHED-TTL:PT1H
BEGIN:VTIMEZONE
TZID:America/Chicago
BEGIN:DAYLIGHT
TZOFFSETFROM:-0600
TZOFFSETTO:-0500
TZNAME:CDT
DTSTART:20190310T080000
END:DAYLIGHT
BEGIN:STANDARD
TZOFFSETFROM:-0500
TZOFFSETTO:-0600
TZNAME:CST
DTSTART:20191103T070000
END:STANDARD
BEGIN:DAYLIGHT
TZOFFSETFROM:-0600
TZOFFSETTO:-0500
TZNAME:CDT
DTSTART:20200308T080000
END:DAYLIGHT
BEGIN:STANDARD
TZOFFSETFROM:-0500
TZOFFSETTO:-0600
TZNAME:CST
DTSTART:20201101T070000
END:STANDARD
BEGIN:DAYLIGHT
TZOFFSETFROM:-0600
TZOFFSETTO:-0500
TZNAME:CDT
DTSTART:20210314T080000
END:DAYLIGHT
BEGIN:STANDARD
TZOFFSETFROM:-0500
TZOFFSETTO:-0600
TZNAME:CST
DTSTART:20211107T070000
END:STANDARD
END:VTIMEZONE
BEGIN:VEVENT
DTSTART;VALUE=DATE:20200330
DTEND;VALUE=DATE:20200403
DTSTAMP:20260423T230144
CREATED:20200316T162317Z
LAST-MODIFIED:20200403T161438Z
UID:8572-1585526400-1585871999@www.kids4.tv
SUMMARY:NO SCHOOL/NO KIDS-4 CREWS
DESCRIPTION:KIDS-4 crews will not meet during this time.
URL:https://www.kids4.tv/event/no-school-no-kids-4-crews/
END:VEVENT
BEGIN:VEVENT
DTSTART;VALUE=DATE:20200410
DTEND;VALUE=DATE:20200411
DTSTAMP:20260423T230144
CREATED:20191216T195843Z
LAST-MODIFIED:20191216T195843Z
UID:7829-1586476800-1586563199@www.kids4.tv
SUMMARY:KIDS-4 Closed
DESCRIPTION:KIDS-4 closed to observe the Spring Holiday.
URL:https://www.kids4.tv/event/kids-4-closed-4/
END:VEVENT
BEGIN:VEVENT
DTSTART;VALUE=DATE:20200415
DTEND;VALUE=DATE:20200416
DTSTAMP:20260423T230144
CREATED:20200217T172920Z
LAST-MODIFIED:20200318T164901Z
UID:8162-1586908800-1586995199@www.kids4.tv
SUMMARY:Summer Workshops\, Registration OPENS
DESCRIPTION:Registration for 2020 summer workshops at KIDS-4 opens today.
URL:https://www.kids4.tv/event/registration-opens-for-summer-workshops/
END:VEVENT
END:VCALENDAR