BEGIN:VCALENDAR
VERSION:2.0
PRODID:-//KIDS-4 - ECPv6.15.17//NONSGML v1.0//EN
CALSCALE:GREGORIAN
METHOD:PUBLISH
X-WR-CALNAME:KIDS-4
X-ORIGINAL-URL:https://www.kids4.tv
X-WR-CALDESC:Events for KIDS-4
REFRESH-INTERVAL;VALUE=DURATION:PT1H
X-Robots-Tag:noindex
X-PUBLISHED-TTL:PT1H
BEGIN:VTIMEZONE
TZID:America/Chicago
BEGIN:DAYLIGHT
TZOFFSETFROM:-0600
TZOFFSETTO:-0500
TZNAME:CDT
DTSTART:20190310T080000
END:DAYLIGHT
BEGIN:STANDARD
TZOFFSETFROM:-0500
TZOFFSETTO:-0600
TZNAME:CST
DTSTART:20191103T070000
END:STANDARD
BEGIN:DAYLIGHT
TZOFFSETFROM:-0600
TZOFFSETTO:-0500
TZNAME:CDT
DTSTART:20200308T080000
END:DAYLIGHT
BEGIN:STANDARD
TZOFFSETFROM:-0500
TZOFFSETTO:-0600
TZNAME:CST
DTSTART:20201101T070000
END:STANDARD
BEGIN:DAYLIGHT
TZOFFSETFROM:-0600
TZOFFSETTO:-0500
TZNAME:CDT
DTSTART:20210314T080000
END:DAYLIGHT
BEGIN:STANDARD
TZOFFSETFROM:-0500
TZOFFSETTO:-0600
TZNAME:CST
DTSTART:20211107T070000
END:STANDARD
END:VTIMEZONE
BEGIN:VEVENT
DTSTART;VALUE=DATE:20200601
DTEND;VALUE=DATE:20200602
DTSTAMP:20260423T200022
CREATED:20200309T171904Z
LAST-MODIFIED:20200309T172019Z
UID:8508-1590969600-1591055999@www.kids4.tv
SUMMARY:KIDS-4\, Registration Opens for Returners
DESCRIPTION:KIDS-4 Registration for the 2020-2021 crew year is open to returning crew members.
URL:https://www.kids4.tv/event/kids-4-registration-opens-for-returners/
END:VEVENT
BEGIN:VEVENT
DTSTART;VALUE=DATE:20200619
DTEND;VALUE=DATE:20200620
DTSTAMP:20260423T200022
CREATED:20200309T171147Z
LAST-MODIFIED:20200309T171147Z
UID:8503-1592524800-1592611199@www.kids4.tv
SUMMARY:Summer Workshops\, Registration DEADLINE
DESCRIPTION:
URL:https://www.kids4.tv/event/summer-workshops-registration-deadline/
END:VEVENT
END:VCALENDAR